BEGIN:VCALENDAR
PRODID:-//AT Content Types//AT Event//EN
VERSION:1.0
BEGIN:VEVENT
DTSTART:20091201T130000Z
DTEND:20091201T143000Z
DCREATED:20091124T111702Z
UID:ATEvent-cdaf119bd356cc6b6751b1d7f6753304
SEQUENCE:0
LAST-MODIFIED:20091124T111755Z
SUMMARY:BP-QM tut.
LOCATION:Lecture Room H
PRIORITY:3
TRANSP:0
END:VEVENT
END:VCALENDAR
