BEGIN:VCALENDAR
PRODID:-//AT Content Types//AT Event//EN
VERSION:1.0
BEGIN:VEVENT
DTSTART:20091124T130000Z
DTEND:20091124T143000Z
DCREATED:20091124T104948Z
UID:ATEvent-c78f13bcb8e792f0bfc35469795f70a8
SEQUENCE:0
LAST-MODIFIED:20091124T105018Z
SUMMARY:BP-QM tut.
LOCATION:Lecture Room H
PRIORITY:3
TRANSP:0
END:VEVENT
END:VCALENDAR
