BEGIN:VCALENDAR
PRODID:-//AT Content Types//AT Event//EN
VERSION:1.0
BEGIN:VEVENT
DTSTART:20090312T163000Z
DTEND:20090312T180000Z
DCREATED:20090305T130449Z
UID:ATEvent-3e919bd8317606f8312d63fcaa800afb
SEQUENCE:0
LAST-MODIFIED:20090305T130603Z
SUMMARY:BP-QM tut.
LOCATION:Lecture Room H
PRIORITY:3
TRANSP:0
END:VEVENT
END:VCALENDAR
