BEGIN:VCALENDAR
PRODID:-//AT Content Types//AT Event//EN
VERSION:1.0
BEGIN:VEVENT
DTSTART:20090122T130000Z
DTEND:20090122T143000Z
DCREATED:20090109T084249Z
UID:ATEvent-51e688406c02fad91cfa0b880c68057c
SEQUENCE:0
LAST-MODIFIED:20090109T084501Z
SUMMARY:BP-QM tut.
LOCATION:Lecture Room H
PRIORITY:3
TRANSP:0
END:VEVENT
END:VCALENDAR
