BEGIN:VCALENDAR
PRODID:-//AT Content Types//AT Event//EN
VERSION:1.0
BEGIN:VEVENT
DTSTART:20081211T163000Z
DTEND:20081211T180000Z
DCREATED:20081125T110352Z
UID:ATEvent-f2cc86f20c2e7d202bcd56116f0bf2fe
SEQUENCE:0
LAST-MODIFIED:20081125T110436Z
SUMMARY:BP-QM tut.
LOCATION:Lecture Room H
PRIORITY:3
TRANSP:0
END:VEVENT
END:VCALENDAR
