BEGIN:VCALENDAR
PRODID:-//AT Content Types//AT Event//EN
VERSION:1.0
BEGIN:VEVENT
DTSTART:20101220T130000Z
DTEND:20101220T143000Z
DCREATED:20101129T090959Z
UID:ATEvent-e81889e676f13eb533d53cd6430add57
SEQUENCE:0
LAST-MODIFIED:20101129T091026Z
SUMMARY:BP-QM
LOCATION:Lecture Room H
PRIORITY:3
TRANSP:0
END:VEVENT
END:VCALENDAR
