BEGIN:VCALENDAR
PRODID:-//AT Content Types//AT Event//EN
VERSION:2.0
METHOD:PUBLISH
BEGIN:VEVENT
DTSTAMP:20260420T082319Z
CREATED:20101029T141855Z
UID:ATEvent-47c26567595176defe2d92f7e96bd4e1
LAST-MODIFIED:20101029T141928Z
SUMMARY:BP-QM
DTSTART:20101104T150000Z
DTEND:20101104T163000Z
LOCATION:Lecture Room H
CONTACT:G. Thompson
URL:https://diploma-clear.ictp.it/courses/weekly-schedule/lecture-room-h/bp-qm-71
CLASS:PUBLIC
END:VEVENT
END:VCALENDAR
