BEGIN:VCALENDAR
PRODID:-//AT Content Types//AT Event//EN
VERSION:1.0
BEGIN:VEVENT
DTSTART:20101124T130000Z
DTEND:20101124T143000Z
DCREATED:20100922T135103Z
UID:ATEvent-1211a1473033a9cbfd943f526646f7f3
SEQUENCE:0
LAST-MODIFIED:20100922T135129Z
SUMMARY:BP-QM
LOCATION:Lecture Room H
PRIORITY:3
TRANSP:0
END:VEVENT
END:VCALENDAR
