BEGIN:VCALENDAR
PRODID:-//AT Content Types//AT Event//EN
VERSION:1.0
BEGIN:VEVENT
DTSTART:20110629T140000Z
DTEND:20110629T153000Z
DCREATED:20110512T134014Z
UID:ATEvent-7fcdec5109046b95cb6824ea81d0a846
SEQUENCE:0
LAST-MODIFIED:20110616T132622Z
SUMMARY:BP-PES
LOCATION:Lecture Room H
PRIORITY:3
TRANSP:0
END:VEVENT
END:VCALENDAR
