BEGIN:VCALENDAR
PRODID:-//AT Content Types//AT Event//EN
VERSION:1.0
BEGIN:VEVENT
DTSTART:20110228T130000Z
DTEND:20110228T143000Z
DCREATED:20110225T103606Z
UID:ATEvent-b704dd4b61057ea4c1ba5071b0fcccf0
SEQUENCE:0
LAST-MODIFIED:20110225T103649Z
SUMMARY:BP-MM tut.
LOCATION:Lecture Room H
PRIORITY:3
TRANSP:0
END:VEVENT
END:VCALENDAR
