BEGIN:VCALENDAR
PRODID:-//AT Content Types//AT Event//EN
VERSION:1.0
BEGIN:VEVENT
DTSTART:20100119T100000Z
DTEND:20100119T113000Z
DCREATED:20091217T153922Z
UID:ATEvent-d9af35afa850c8cf75d1379b942e74fd
SEQUENCE:0
LAST-MODIFIED:20091217T153951Z
SUMMARY:BP-MM tut.
LOCATION:Lecture Room H
PRIORITY:3
TRANSP:0
END:VEVENT
END:VCALENDAR
