BEGIN:VCALENDAR
PRODID:-//AT Content Types//AT Event//EN
VERSION:1.0
BEGIN:VEVENT
DTSTART:20091203T130000Z
DTEND:20091203T143000Z
DCREATED:20091119T133043Z
UID:ATEvent-87aa1d269ada68908600b52094e8d353
SEQUENCE:0
LAST-MODIFIED:20091119T133408Z
SUMMARY:BP-MM tut.
LOCATION:Lecture Room H
PRIORITY:3
TRANSP:0
END:VEVENT
END:VCALENDAR
