BEGIN:VCALENDAR
PRODID:-//AT Content Types//AT Event//EN
VERSION:1.0
BEGIN:VEVENT
DTSTART:20091111T130000Z
DTEND:20091111T143000Z
DCREATED:20090915T141216Z
UID:ATEvent-fdb90166e5cb67e67b88e8d8f8aacfb7
SEQUENCE:0
LAST-MODIFIED:20090915T141241Z
SUMMARY:BP-MM tut.
LOCATION:Lecture Room H
PRIORITY:3
TRANSP:0
END:VEVENT
END:VCALENDAR
