BEGIN:VCALENDAR
PRODID:-//AT Content Types//AT Event//EN
VERSION:2.0
METHOD:PUBLISH
BEGIN:VEVENT
DTSTAMP:20260420T200638Z
CREATED:20100922T134617Z
UID:ATEvent-ccd957d24327fb65dace28085c217530
LAST-MODIFIED:20100922T134643Z
SUMMARY:BP-MM
DTSTART:20101122T100000Z
DTEND:20101122T113000Z
LOCATION:Lecture Room H
CONTACT:K.S. Narain
URL:https://diploma-clear.ictp.it/courses/weekly-schedule/lecture-room-h/bp-mm-98
CLASS:PUBLIC
END:VEVENT
END:VCALENDAR
