BEGIN:VCALENDAR
PRODID:-//AT Content Types//AT Event//EN
VERSION:1.0
BEGIN:VEVENT
DTSTART:20101207T130000Z
DTEND:20101207T143000Z
DCREATED:20101104T134321Z
UID:ATEvent-0db33e4cf1ccbc82efb9cf454204504e
SEQUENCE:0
LAST-MODIFIED:20101104T134358Z
SUMMARY:BP-MM
LOCATION:Lecture Room H
PRIORITY:3
TRANSP:0
END:VEVENT
END:VCALENDAR
