BEGIN:VCALENDAR
PRODID:-//AT Content Types//AT Event//EN
VERSION:1.0
BEGIN:VEVENT
DTSTART:20101022T090000Z
DTEND:20101022T103000Z
DCREATED:20100916T131808Z
UID:ATEvent-f70f0a13b4a3215922d8aa7f0d36ec28
SEQUENCE:0
LAST-MODIFIED:20100916T131830Z
SUMMARY:BP-MM
LOCATION:Lecture Room H
PRIORITY:3
TRANSP:0
END:VEVENT
END:VCALENDAR
