BEGIN:VCALENDAR
PRODID:-//AT Content Types//AT Event//EN
VERSION:1.0
BEGIN:VEVENT
DTSTART:20101021T090000Z
DTEND:20101021T103000Z
DCREATED:20100916T131323Z
UID:ATEvent-47360e20da79b6d5753f5eb079c9148e
SEQUENCE:0
LAST-MODIFIED:20100916T131354Z
SUMMARY:BP-MM
LOCATION:Lecture Room H
PRIORITY:3
TRANSP:0
END:VEVENT
END:VCALENDAR
