BEGIN:VCALENDAR
PRODID:-//AT Content Types//AT Event//EN
VERSION:2.0
METHOD:PUBLISH
BEGIN:VEVENT
DTSTAMP:20260421T104610Z
CREATED:20101022T140142Z
UID:ATEvent-4ad8bb17ce20de02fdf9d92b8a00b856
LAST-MODIFIED:20101022T140217Z
SUMMARY:BP-MM
DTSTART:20101130T130000Z
DTEND:20101130T143000Z
LOCATION:Lecture Room H
CONTACT:K.S. Narain
URL:https://diploma-clear.ictp.it/courses/weekly-schedule/lecture-room-h/bp-mm-77
CLASS:PUBLIC
END:VEVENT
END:VCALENDAR
