BEGIN:VCALENDAR
PRODID:-//AT Content Types//AT Event//EN
VERSION:2.0
METHOD:PUBLISH
BEGIN:VEVENT
DTSTAMP:20260420T224458Z
CREATED:20100916T125900Z
UID:ATEvent-8836a0d0b3344b67a239f4cf483e4cfd
LAST-MODIFIED:20100916T125923Z
SUMMARY:BP-MM
DTSTART:20101014T090000Z
DTEND:20101014T103000Z
LOCATION:Lecture Room H
CONTACT:K.S. Narain
URL:https://diploma-clear.ictp.it/courses/weekly-schedule/lecture-room-h/bp-mm-76
CLASS:PUBLIC
END:VEVENT
END:VCALENDAR
