BEGIN:VCALENDAR
PRODID:-//AT Content Types//AT Event//EN
VERSION:2.0
METHOD:PUBLISH
BEGIN:VEVENT
DTSTAMP:20260421T050318Z
CREATED:20100916T125338Z
UID:ATEvent-95f08de558f66feaab3ecc6c188afa4c
LAST-MODIFIED:20100916T125400Z
SUMMARY:BP-MM
DTSTART:20101011T090000Z
DTEND:20101011T103000Z
LOCATION:Lecture Room H
CONTACT:K.S. Narain
URL:https://diploma-clear.ictp.it/courses/weekly-schedule/lecture-room-h/bp-mm-74
CLASS:PUBLIC
END:VEVENT
END:VCALENDAR
