BEGIN:VCALENDAR
PRODID:-//AT Content Types//AT Event//EN
VERSION:1.0
BEGIN:VEVENT
DTSTART:20090108T100000Z
DTEND:20090108T113000Z
DCREATED:20081121T140654Z
UID:ATEvent-79ebf2541d9773f8208c8677d9eec381
SEQUENCE:0
LAST-MODIFIED:20081121T140740Z
SUMMARY:BP-MM
LOCATION:Lecture Room H
PRIORITY:3
TRANSP:0
END:VEVENT
END:VCALENDAR
