BEGIN:VCALENDAR
PRODID:-//AT Content Types//AT Event//EN
VERSION:2.0
METHOD:PUBLISH
BEGIN:VEVENT
DTSTAMP:20260420T132844Z
CREATED:20091104T105333Z
UID:ATEvent-eab0eba96b5b2f15fa058d3c57528cde
LAST-MODIFIED:20091104T105356Z
SUMMARY:BP-MM
DTSTART:20091126T100000Z
DTEND:20091126T113000Z
LOCATION:Lecture Room H
CONTACT:Kumar Narain
URL:https://diploma-clear.ictp.it/courses/weekly-schedule/lecture-room-h/bp-mm-53
CLASS:PUBLIC
END:VEVENT
END:VCALENDAR
