BEGIN:VCALENDAR
PRODID:-//AT Content Types//AT Event//EN
VERSION:1.0
BEGIN:VEVENT
DTSTART:20091109T100000Z
DTEND:20091109T113000Z
DCREATED:20090915T134901Z
UID:ATEvent-419dddf752271e021b6fdd3b953cd2b6
SEQUENCE:0
LAST-MODIFIED:20090915T134930Z
SUMMARY:BP-MM
LOCATION:Lecture Room H
PRIORITY:3
TRANSP:0
END:VEVENT
END:VCALENDAR
