BEGIN:VCALENDAR
PRODID:-//AT Content Types//AT Event//EN
VERSION:2.0
METHOD:PUBLISH
BEGIN:VEVENT
DTSTAMP:20260420T132852Z
CREATED:20090915T131934Z
UID:ATEvent-fcac20590e224beba08fba12483d096f
LAST-MODIFIED:20091002T131540Z
SUMMARY:BP-MM
DTSTART:20091007T090000Z
DTEND:20091007T103000Z
LOCATION:Lecture Room H
CONTACT:Kumar Narain
URL:https://diploma-clear.ictp.it/courses/weekly-schedule/lecture-room-h/bp-mm-28
CLASS:PUBLIC
END:VEVENT
END:VCALENDAR
