BEGIN:VCALENDAR
PRODID:-//AT Content Types//AT Event//EN
VERSION:1.0
BEGIN:VEVENT
DTSTART:20090915T090000Z
DTEND:20090915T103000Z
DCREATED:20090909T142135Z
UID:ATEvent-b6c3f43c4fc957678d20965aeddfb54a
SEQUENCE:0
LAST-MODIFIED:20090909T142159Z
SUMMARY:BP-MM
LOCATION:Lecture Room H
PRIORITY:3
TRANSP:0
END:VEVENT
END:VCALENDAR
