BEGIN:VCALENDAR
PRODID:-//AT Content Types//AT Event//EN
VERSION:1.0
BEGIN:VEVENT
DTSTART:20081126T100000Z
DTEND:20081126T113000Z
DCREATED:20081106T140631Z
UID:ATEvent-8e8898d0ed9169b9fe0df5f25c4eb56d
SEQUENCE:0
LAST-MODIFIED:20081106T140756Z
SUMMARY:BP-MM tut.
LOCATION:Lecture Room H
PRIORITY:3
TRANSP:0
END:VEVENT
END:VCALENDAR
