BEGIN:VCALENDAR
PRODID:-//AT Content Types//AT Event//EN
VERSION:1.0
BEGIN:VEVENT
DTSTART:20090909T120000Z
DTEND:20090909T133000Z
DCREATED:20090908T071823Z
UID:ATEvent-2e4c465b646d3b4198b205c6aa25333d
SEQUENCE:0
LAST-MODIFIED:20090908T071946Z
SUMMARY:BP meeting with coordinator
LOCATION:Lecture Room H
PRIORITY:3
TRANSP:0
END:VEVENT
END:VCALENDAR
