BEGIN:VCALENDAR
PRODID:-//AT Content Types//AT Event//EN
VERSION:1.0
BEGIN:VEVENT
DTSTART:20101208T150000Z
DTEND:20101208T163000Z
DCREATED:20100924T134200Z
UID:ATEvent-32e8e03624a60109a9439b9afaa164c7
SEQUENCE:0
LAST-MODIFIED:20100924T134233Z
SUMMARY:BP-CM
LOCATION:Lecture Room H
PRIORITY:3
TRANSP:0
END:VEVENT
END:VCALENDAR
