BEGIN:VCALENDAR
PRODID:-//AT Content Types//AT Event//EN
VERSION:1.0
BEGIN:VEVENT
DTSTART:20101126T150000Z
DTEND:20101126T163000Z
DCREATED:20100922T135458Z
UID:ATEvent-1bc620fc77fd30fe1ae325c2d91adfc2
SEQUENCE:0
LAST-MODIFIED:20100922T135518Z
SUMMARY:BP-CM
LOCATION:Lecture Room H
PRIORITY:3
TRANSP:0
END:VEVENT
END:VCALENDAR
