BEGIN:VCALENDAR
PRODID:-//AT Content Types//AT Event//EN
VERSION:2.0
METHOD:PUBLISH
BEGIN:VEVENT
DTSTAMP:20260420T224420Z
CREATED:20100922T125126Z
UID:ATEvent-bf7410dbdab9e1ee24600f1892747ff4
LAST-MODIFIED:20100922T125152Z
SUMMARY:BP-CM
DTSTART:20101117T150000Z
DTEND:20101117T163000Z
LOCATION:Lecture Room H
CONTACT:M. Fabbrichesi
URL:https://diploma-clear.ictp.it/courses/weekly-schedule/lecture-room-h/bp-cm-31
CLASS:PUBLIC
END:VEVENT
END:VCALENDAR
