BEGIN:VCALENDAR
PRODID:-//AT Content Types//AT Event//EN
VERSION:1.0
BEGIN:VEVENT
DTSTART:20101118T150000Z
DTEND:20101118T163000Z
DCREATED:20101104T135906Z
UID:ATEvent-9b6344f16095830ccbdc5aa71eba795e
SEQUENCE:0
LAST-MODIFIED:20101104T135944Z
SUMMARY:BP-CM
LOCATION:Lecture Room H
PRIORITY:3
TRANSP:0
END:VEVENT
END:VCALENDAR
