BEGIN:VCALENDAR
PRODID:-//AT Content Types//AT Event//EN
VERSION:1.0
BEGIN:VEVENT
DTSTART:20110517T120000Z
DTEND:20110517T133000Z
DCREATED:20110215T150702Z
UID:ATEvent-2209328a6fb2625e5e824773148fa4df
SEQUENCE:0
LAST-MODIFIED:20110215T150728Z
SUMMARY:BP-AQM
LOCATION:Lecture Room H
PRIORITY:3
TRANSP:0
END:VEVENT
END:VCALENDAR
