BEGIN:VCALENDAR
PRODID:-//AT Content Types//AT Event//EN
VERSION:1.0
BEGIN:VEVENT
DTSTART:20110428T120000Z
DTEND:20110428T133000Z
DCREATED:20110215T143045Z
UID:ATEvent-ae73215b607b111ab3e163012a343cdd
SEQUENCE:0
LAST-MODIFIED:20110215T143114Z
SUMMARY:BP-AQM
LOCATION:Lecture Room H
PRIORITY:3
TRANSP:0
END:VEVENT
END:VCALENDAR
