BEGIN:VCALENDAR
PRODID:-//AT Content Types//AT Event//EN
VERSION:2.0
METHOD:PUBLISH
BEGIN:VEVENT
DTSTAMP:20260420T141414Z
CREATED:20090416T142727Z
UID:ATEvent-1573cb9c5e4a79b42caa00cb91d9c859
LAST-MODIFIED:20090416T142816Z
SUMMARY:BP-AQM
DTSTART:20090424T090000Z
DTEND:20090424T103000Z
LOCATION:Lecture Room H
CONTACT:Giuseppe Santoro
URL:https://diploma-clear.ictp.it/courses/weekly-schedule/lecture-room-h/bp-aqm-32
CLASS:PUBLIC
END:VEVENT
END:VCALENDAR
