BEGIN:VCALENDAR
PRODID:-//AT Content Types//AT Event//EN
VERSION:1.0
BEGIN:VEVENT
DTSTART:20090423T090000Z
DTEND:20090423T103000Z
DCREATED:20090416T142519Z
UID:ATEvent-b130c72193875a7b6ad8d940bf442954
SEQUENCE:0
LAST-MODIFIED:20090416T142657Z
SUMMARY:BP-AQM
LOCATION:Lecture Room H
PRIORITY:3
TRANSP:0
END:VEVENT
END:VCALENDAR
