BEGIN:VCALENDAR
PRODID:-//AT Content Types//AT Event//EN
VERSION:2.0
METHOD:PUBLISH
BEGIN:VEVENT
DTSTAMP:20260419T203254Z
CREATED:20090220T151048Z
UID:ATEvent-e25b4f25cb3533a9cb788fdf637555a7
LAST-MODIFIED:20090220T151125Z
SUMMARY:BP-AQM
DTSTART:20090610T120000Z
DTEND:20090610T133000Z
LOCATION:Lecture Room H
CONTACT:Giuseppe Santoro
URL:https://diploma-clear.ictp.it/courses/weekly-schedule/lecture-room-h/bp-aqm-28
CLASS:PUBLIC
END:VEVENT
END:VCALENDAR
