BEGIN:VCALENDAR
PRODID:-//AT Content Types//AT Event//EN
VERSION:1.0
BEGIN:VEVENT
DTSTART:20090605T120000Z
DTEND:20090605T133000Z
DCREATED:20090220T150643Z
UID:ATEvent-11bd35839da34b9ab8dac40e999116bc
SEQUENCE:0
LAST-MODIFIED:20090220T150715Z
SUMMARY:BP-AQM
LOCATION:Lecture Room H
PRIORITY:3
TRANSP:0
END:VEVENT
END:VCALENDAR
