BEGIN:VCALENDAR
PRODID:-//AT Content Types//AT Event//EN
VERSION:2.0
METHOD:PUBLISH
BEGIN:VEVENT
DTSTAMP:20260423T021337Z
CREATED:20090220T145930Z
UID:ATEvent-5083bbf7dc28e4792c3676b4a4aa9904
LAST-MODIFIED:20090220T150022Z
SUMMARY:BP-AQM
DTSTART:20090529T120000Z
DTEND:20090529T133000Z
LOCATION:Lecture Room H
CONTACT:Giuseppe Santoro
URL:https://diploma-clear.ictp.it/courses/weekly-schedule/lecture-room-h/bp-aqm-23
CLASS:PUBLIC
END:VEVENT
END:VCALENDAR
