BEGIN:VCALENDAR
PRODID:-//AT Content Types//AT Event//EN
VERSION:2.0
METHOD:PUBLISH
BEGIN:VEVENT
DTSTAMP:20260423T021311Z
CREATED:20090220T145554Z
UID:ATEvent-890724bd1592296c354209dc7b88bbf9
LAST-MODIFIED:20090220T145636Z
SUMMARY:BP-AQM
DTSTART:20090525T120000Z
DTEND:20090525T133000Z
LOCATION:Lecture Room H
CONTACT:Giuseppe Santoro
URL:https://diploma-clear.ictp.it/courses/weekly-schedule/lecture-room-h/bp-aqm-20
CLASS:PUBLIC
END:VEVENT
END:VCALENDAR
