BEGIN:VCALENDAR
PRODID:-//AT Content Types//AT Event//EN
VERSION:1.0
BEGIN:VEVENT
DTSTART:20090522T120000Z
DTEND:20090522T133000Z
DCREATED:20090220T140819Z
UID:ATEvent-55fc8890e0c03f98745ac7035090f45e
SEQUENCE:0
LAST-MODIFIED:20090220T141407Z
SUMMARY:BP-AQM
LOCATION:Lecture Room H
PRIORITY:3
TRANSP:0
END:VEVENT
END:VCALENDAR
