BEGIN:VCALENDAR
PRODID:-//AT Content Types//AT Event//EN
VERSION:2.0
METHOD:PUBLISH
BEGIN:VEVENT
DTSTAMP:20260423T021334Z
CREATED:20090220T132254Z
UID:ATEvent-6ce4b8e1682a0f37f95823f97914caf2
LAST-MODIFIED:20090220T132327Z
SUMMARY:BP-AQM
DTSTART:20090416T120000Z
DTEND:20090416T133000Z
LOCATION:Lecture Room H
CONTACT:Giuseppe Santoro
URL:https://diploma-clear.ictp.it/courses/weekly-schedule/lecture-room-h/bp-aqm-10
CLASS:PUBLIC
END:VEVENT
END:VCALENDAR
