BEGIN:VCALENDAR
PRODID:-//AT Content Types//AT Event//EN
VERSION:2.0
METHOD:PUBLISH
BEGIN:VEVENT
DTSTAMP:20260425T144702Z
CREATED:20101215T140900Z
UID:ATEvent-95afd3874dfcaab3e086f9549a54f02f
LAST-MODIFIED:20101215T140920Z
SUMMARY:BP-AEM
DTSTART:20110218T100000Z
DTEND:20110218T113000Z
LOCATION:Lecture Room H
CONTACT:Xunqiang Bi
URL:https://diploma-clear.ictp.it/courses/weekly-schedule/lecture-room-h/bp-aem-42
CLASS:PUBLIC
END:VEVENT
END:VCALENDAR
