BEGIN:VCALENDAR
PRODID:-//AT Content Types//AT Event//EN
VERSION:2.0
METHOD:PUBLISH
BEGIN:VEVENT
DTSTAMP:20260425T225937Z
CREATED:20091209T105654Z
UID:ATEvent-840efbd5b865839a238573d90fd44f56
LAST-MODIFIED:20091209T105840Z
SUMMARY:BP-AEM
DTSTART:20100115T100000Z
DTEND:20100115T113000Z
LOCATION:Lecture Room H
CONTACT:Xunqiang Bi
URL:https://diploma-clear.ictp.it/courses/weekly-schedule/lecture-room-h/bp-aem-4
CLASS:PUBLIC
END:VEVENT
END:VCALENDAR
