BEGIN:VCALENDAR
PRODID:-//AT Content Types//AT Event//EN
VERSION:2.0
METHOD:PUBLISH
BEGIN:VEVENT
DTSTAMP:20260423T235217Z
CREATED:20101201T153845Z
UID:ATEvent-43404f3d0f7e0b25a116985058bda15b
LAST-MODIFIED:20101201T153907Z
SUMMARY:BP-AEM
DTSTART:20110112T100000Z
DTEND:20110112T113000Z
LOCATION:Lecture Room H
CONTACT:Xunqiang Bi
URL:https://diploma-clear.ictp.it/courses/weekly-schedule/lecture-room-h/bp-aem-26
CLASS:PUBLIC
END:VEVENT
END:VCALENDAR
