BEGIN:VCALENDAR
PRODID:-//AT Content Types//AT Event//EN
VERSION:2.0
METHOD:PUBLISH
BEGIN:VEVENT
DTSTAMP:20260425T104715Z
CREATED:20120926T093230Z
UID:ATEvent-366ece787fcc1b52a73950b74766836d
LAST-MODIFIED:20120926T093420Z
SUMMARY:(All Saints Day)
DTSTART:20121101T130000Z
DTEND:20121101T143000Z
LOCATION:Lecture Room H
URL:https://diploma-clear.ictp.it/courses/weekly-schedule/lecture-room-h/all-saints-day-1
CLASS:PUBLIC
END:VEVENT
END:VCALENDAR
