BEGIN:VCALENDAR
PRODID:-//AT Content Types//AT Event//EN
VERSION:2.0
METHOD:PUBLISH
BEGIN:VEVENT
DTSTAMP:20260423T043957Z
CREATED:20120910T095522Z
UID:ATEvent-7ee624f4acb13e74e1539439ca3b5f0f
LAST-MODIFIED:20120910T095741Z
SUMMARY:AGH infolab course 6
DTSTART:20120920T090000Z
DTEND:20120920T103000Z
LOCATION:Lecture Room H
CONTACT:J. Grassberger\, A. Messina
URL:https://diploma-clear.ictp.it/courses/weekly-schedule/lecture-room-h/agh-infolab-course-6
CLASS:PUBLIC
END:VEVENT
END:VCALENDAR
