BEGIN:VCALENDAR
PRODID:-//AT Content Types//AT Event//EN
VERSION:1.0
BEGIN:VEVENT
DTSTART:20120528T070000Z
DTEND:20120528T083000Z
DCREATED:20120423T135506Z
UID:ATEvent-d11d387fc87d26f67f5184053a439f8d
SEQUENCE:0
LAST-MODIFIED:20120516T132111Z
SUMMARY:ESP-RS
LOCATION:Lecture Room H
PRIORITY:3
TRANSP:0
END:VEVENT
END:VCALENDAR
