BEGIN:VCALENDAR
PRODID:-//AT Content Types//AT Event//EN
VERSION:2.0
METHOD:PUBLISH
BEGIN:VEVENT
DTSTAMP:20260420T161447Z
CREATED:20090818T142255Z
UID:ATEvent-9e560e61e7f6dc7c982ce8106db8de52
LAST-MODIFIED:20090818T142355Z
SUMMARY:15:30-LB main lecture hall - awards ceremony
DTSTART:20090821T140000Z
DTEND:20090821T153000Z
LOCATION:Lecture Room H
URL:https://diploma-clear.ictp.it/courses/weekly-schedule/lecture-room-h/15-30-lb-main-lecture-hall-awards-ceremony
CLASS:PUBLIC
END:VEVENT
END:VCALENDAR
