BEGIN:VCALENDAR
PRODID:-//AT Content Types//AT Event//EN
VERSION:1.0
BEGIN:VEVENT
DTSTART:20120801T070000Z
DTEND:20120801T083000Z
DCREATED:20120726T103035Z
UID:ATEvent-0686a0dd6f8ed8fb661eeabbc3f7098f
SEQUENCE:0
LAST-MODIFIED:20120730T123121Z
SUMMARY:9:00-12:00 Euler Room
LOCATION:Lecture Room H
PRIORITY:3
TRANSP:0
END:VEVENT
END:VCALENDAR
