BEGIN:VCALENDAR
PRODID:-//ICTPDiploma//ATRoom//EN
VERSION:1.0
BEGIN:VEVENT
DTSTART:20111221T080000Z
DTEND:20111221T093000Z
DCREATED:20110921T091709Z
UID:ATEvent-ff190c34b5da7b4cba2e4fa904524621
SEQUENCE:0
LAST-MODIFIED:20110921T091735Z
SUMMARY:HEP-PP
LOCATION:Lecture Room Euler
PRIORITY:3
TRANSP:0
END:VEVENT
BEGIN:VEVENT
DTSTART:20111221T100000Z
DTEND:20111221T113000Z
DCREATED:20110921T091801Z
UID:ATEvent-6fc1f642c0e6b20bffc7a473a107aa3d
SEQUENCE:0
LAST-MODIFIED:20110921T091829Z
SUMMARY:EXAM
LOCATION:Lecture Room Euler
PRIORITY:3
TRANSP:0
END:VEVENT
BEGIN:VEVENT
DTSTART:20111219T130000Z
DTEND:20111219T143000Z
DCREATED:20111205T093246Z
UID:ATEvent-85ddd3ee9d3c0faa9cf2b5592a355e35
SEQUENCE:0
LAST-MODIFIED:20111205T093321Z
SUMMARY:CMP-AQM
LOCATION:Lecture Room Euler
PRIORITY:3
TRANSP:0
END:VEVENT
BEGIN:VEVENT
DTSTART:20111222T130000Z
DTEND:20111222T143000Z
DCREATED:20111201T135225Z
UID:ATEvent-32249dd1864f42f6f421bb450960c5f8
SEQUENCE:0
LAST-MODIFIED:20111216T132805Z
SUMMARY:HEP-QED tut.
LOCATION:Lecture Room Euler
PRIORITY:3
TRANSP:0
END:VEVENT
BEGIN:VEVENT
DTSTART:20111219T150000Z
DTEND:20111219T163000Z
DCREATED:20111205T093336Z
UID:ATEvent-73b218d63d79db05ee8804f802a9e57c
SEQUENCE:0
LAST-MODIFIED:20111205T093436Z
SUMMARY:EXAM
LOCATION:Lecture Room Euler
PRIORITY:3
TRANSP:0
END:VEVENT
BEGIN:VEVENT
DTSTART:20111222T150000Z
DTEND:20111222T163000Z
DCREATED:20111205T103948Z
UID:ATEvent-88016405c0176f2fbc3412686fa9b93f
SEQUENCE:0
LAST-MODIFIED:20111216T132715Z
SUMMARY:HEP-QED tut.
LOCATION:Lecture Room Euler
PRIORITY:3
TRANSP:0
END:VEVENT
END:VCALENDAR
